BEGIN:VCALENDAR
VERSION:2.0
PRODID:-//94.3 The Bridge - ECPv6.15.20//NONSGML v1.0//EN
CALSCALE:GREGORIAN
METHOD:PUBLISH
X-ORIGINAL-URL:https://943thebridge.com
X-WR-CALDESC:Events for 94.3 The Bridge
REFRESH-INTERVAL;VALUE=DURATION:PT1H
X-Robots-Tag:noindex
X-PUBLISHED-TTL:PT1H
BEGIN:VTIMEZONE
TZID:America/Los_Angeles
BEGIN:DAYLIGHT
TZOFFSETFROM:-0800
TZOFFSETTO:-0700
TZNAME:PDT
DTSTART:20140309T100000
END:DAYLIGHT
BEGIN:STANDARD
TZOFFSETFROM:-0700
TZOFFSETTO:-0800
TZNAME:PST
DTSTART:20141102T090000
END:STANDARD
BEGIN:DAYLIGHT
TZOFFSETFROM:-0800
TZOFFSETTO:-0700
TZNAME:PDT
DTSTART:20150308T100000
END:DAYLIGHT
BEGIN:STANDARD
TZOFFSETFROM:-0700
TZOFFSETTO:-0800
TZNAME:PST
DTSTART:20151101T090000
END:STANDARD
BEGIN:DAYLIGHT
TZOFFSETFROM:-0800
TZOFFSETTO:-0700
TZNAME:PDT
DTSTART:20160313T100000
END:DAYLIGHT
BEGIN:STANDARD
TZOFFSETFROM:-0700
TZOFFSETTO:-0800
TZNAME:PST
DTSTART:20161106T090000
END:STANDARD
END:VTIMEZONE
BEGIN:VEVENT
DTSTART;TZID=America/Los_Angeles:20150912T130000
DTEND;TZID=America/Los_Angeles:20150912T150000
DTSTAMP:20260421T113636
CREATED:20150901T212919Z
LAST-MODIFIED:20150903T152123Z
UID:243-1442062800-1442070000@943thebridge.com
SUMMARY:Rogue River High School Boys' Soccer vs. Canonville Christian Acad.
DESCRIPTION:
URL:https://943thebridge.com/event/rogue-river-high-school-boys-soccer-vs-canonville-christian-acad/
LOCATION:Rogue River High School\, 1898 E Evans Creek Rd\, Rogue River\, OR\, 97537\, United States
CATEGORIES:Rogue River,Sports
END:VEVENT
BEGIN:VEVENT
DTSTART;TZID=America/Los_Angeles:20150516T120000
DTEND;TZID=America/Los_Angeles:20150516T160000
DTSTAMP:20260421T113636
CREATED:20150506T224530Z
LAST-MODIFIED:20150506T224530Z
UID:178-1431777600-1431792000@943thebridge.com
SUMMARY:Rogue River HS Baseball vs. Illinois Valley
DESCRIPTION:Double Hitter
URL:https://943thebridge.com/event/rogue-river-hs-baseball-vs-illinois-valley-2/
LOCATION:Rogue River High School\, 1898 E Evans Creek Rd\, Rogue River\, OR\, 97537\, United States
CATEGORIES:Rogue River,Sports
END:VEVENT
BEGIN:VEVENT
DTSTART;TZID=America/Los_Angeles:20150516T120000
DTEND;TZID=America/Los_Angeles:20150516T160000
DTSTAMP:20260421T113636
CREATED:20150430T053431Z
LAST-MODIFIED:20150430T053431Z
UID:164-1431777600-1431792000@943thebridge.com
SUMMARY:Rogue River HS Softball vs. Illinois Valley
DESCRIPTION:Double Hitter
URL:https://943thebridge.com/event/rogue-river-hs-softball-vs-illinois-valley/
LOCATION:Rogue River High School\, 1898 E Evans Creek Rd\, Rogue River\, OR\, 97537\, United States
CATEGORIES:Rogue River,Sports
END:VEVENT
BEGIN:VEVENT
DTSTART;TZID=America/Los_Angeles:20150516T120000
DTEND;TZID=America/Los_Angeles:20150516T160000
DTSTAMP:20260421T113636
CREATED:20150430T053406Z
LAST-MODIFIED:20150430T053406Z
UID:163-1431777600-1431792000@943thebridge.com
SUMMARY:Rogue River HS Baseball vs. Illinois Valley
DESCRIPTION:Double Hitter
URL:https://943thebridge.com/event/rogue-river-hs-baseball-vs-illinois-valley/
LOCATION:Rogue River High School\, 1898 E Evans Creek Rd\, Rogue River\, OR\, 97537\, United States
CATEGORIES:Rogue River,Sports
END:VEVENT
BEGIN:VEVENT
DTSTART;VALUE=DATE:20150515
DTEND;VALUE=DATE:20150517
DTSTAMP:20260421T113636
CREATED:20150430T053343Z
LAST-MODIFIED:20150430T053846Z
UID:162-1431648000-1431820799@943thebridge.com
SUMMARY:Rogue River High School Track and Field
DESCRIPTION:3a Special District 1 Regional Qualifier
URL:https://943thebridge.com/event/rogue-river-high-school-track-and-field/
LOCATION:Rogue River High School\, 1898 E Evans Creek Rd\, Rogue River\, OR\, 97537\, United States
CATEGORIES:Rogue River,Sports
END:VEVENT
BEGIN:VEVENT
DTSTART;TZID=America/Los_Angeles:20150509T120000
DTEND;TZID=America/Los_Angeles:20150509T140000
DTSTAMP:20260421T113636
CREATED:20150430T003951Z
LAST-MODIFIED:20150430T004017Z
UID:137-1431172800-1431180000@943thebridge.com
SUMMARY:Rogue River HS Baseball at Cascade Christian
DESCRIPTION:
URL:https://943thebridge.com/event/rogue-river-hs-softball-at-cascade-christian/
LOCATION:U.S. Cellular Fields\, 300 Lowry Ln\, Medford\, OR\, 97501\, United States
CATEGORIES:Rogue River,Sports
END:VEVENT
BEGIN:VEVENT
DTSTART;TZID=America/Los_Angeles:20150508T160000
DTEND;TZID=America/Los_Angeles:20150508T180000
DTSTAMP:20260421T113636
CREATED:20150430T004233Z
LAST-MODIFIED:20150430T004233Z
UID:140-1431100800-1431108000@943thebridge.com
SUMMARY:Rogue River HS Softball at Cascade Christian
DESCRIPTION:
URL:https://943thebridge.com/event/rogue-river-hs-softball-at-cascade-christian-2/
LOCATION:U.S. Cellular Fields\, 300 Lowry Ln\, Medford\, OR\, 97501\, United States
CATEGORIES:Rogue River,Sports
END:VEVENT
BEGIN:VEVENT
DTSTART;VALUE=DATE:20150506
DTEND;VALUE=DATE:20150507
DTSTAMP:20260421T113636
CREATED:20150430T003656Z
LAST-MODIFIED:20150430T003656Z
UID:135-1430870400-1430956799@943thebridge.com
SUMMARY:Rogue River HS Track and Field at North Valley
DESCRIPTION:
URL:https://943thebridge.com/event/rogue-river-hs-track-and-field-at-north-valley/
LOCATION:North Valley High School\, 6741 Monument Dr\, Grants Pass\, OR\, 97526\, United States
CATEGORIES:Rogue River,Sports
END:VEVENT
BEGIN:VEVENT
DTSTART;TZID=America/Los_Angeles:20150505T163000
DTEND;TZID=America/Los_Angeles:20150505T183000
DTSTAMP:20260421T113636
CREATED:20150430T003421Z
LAST-MODIFIED:20150430T003421Z
UID:134-1430843400-1430850600@943thebridge.com
SUMMARY:Rogue River HS Baseball vs. St. Mary's
DESCRIPTION:
URL:https://943thebridge.com/event/rogue-river-hs-baseball-vs-st-marys/
LOCATION:Rogue River High School\, 1898 E Evans Creek Rd\, Rogue River\, OR\, 97537\, United States
CATEGORIES:Rogue River,Sports
END:VEVENT
END:VCALENDAR